BEGIN:VCALENDAR
VERSION:2.0
PRODID:-//Vesterheim Norwegian-American - ECPv5.7.0//NONSGML v1.0//EN
CALSCALE:GREGORIAN
METHOD:PUBLISH
X-WR-CALNAME:Vesterheim Norwegian-American
X-ORIGINAL-URL:https://vesterheim.org
X-WR-CALDESC:Events for Vesterheim Norwegian-American
BEGIN:VTIMEZONE
TZID:America/Chicago
BEGIN:DAYLIGHT
TZOFFSETFROM:-0600
TZOFFSETTO:-0500
TZNAME:CDT
DTSTART:20210314T080000
END:DAYLIGHT
BEGIN:STANDARD
TZOFFSETFROM:-0500
TZOFFSETTO:-0600
TZNAME:CST
DTSTART:20211107T070000
END:STANDARD
END:VTIMEZONE
BEGIN:VEVENT
DTSTART;TZID=America/Chicago:20210115T000000
DTEND;TZID=America/Chicago:20210115T000000
DTSTAMP:20210806T131842
CREATED:20210205T204308Z
LAST-MODIFIED:20210205T204308Z
UID:3443-1610668800-1610668800@vesterheim.org
SUMMARY:Wandering Shawl: Knitting Nordic without a Pattern
DESCRIPTION:
URL:https://vesterheim.org/program/wandering-shawl-knitting-nordic-without-a-pattern/
END:VEVENT
END:VCALENDAR