BEGIN:VCALENDAR
VERSION:2.0
PRODID:-//Vesterheim Norwegian-American - ECPv5.7.0//NONSGML v1.0//EN
CALSCALE:GREGORIAN
METHOD:PUBLISH
X-WR-CALNAME:Vesterheim Norwegian-American
X-ORIGINAL-URL:https://vesterheim.org
X-WR-CALDESC:Events for Vesterheim Norwegian-American
BEGIN:VTIMEZONE
TZID:America/Chicago
BEGIN:DAYLIGHT
TZOFFSETFROM:-0600
TZOFFSETTO:-0500
TZNAME:CDT
DTSTART:20210314T080000
END:DAYLIGHT
BEGIN:STANDARD
TZOFFSETFROM:-0500
TZOFFSETTO:-0600
TZNAME:CST
DTSTART:20211107T070000
END:STANDARD
END:VTIMEZONE
BEGIN:VEVENT
DTSTART;TZID=America/Chicago:20210116T000000
DTEND;TZID=America/Chicago:20210116T000000
DTSTAMP:20210806T131907
CREATED:20210205T204309Z
LAST-MODIFIED:20210210T205818Z
UID:3444-1610755200-1610755200@vesterheim.org
SUMMARY:Introduction to Sami-Inspired Embroidery (SOLD OUT)
DESCRIPTION:
URL:https://vesterheim.org/program/introduction-to-s%e2%80%a1mi-inspired-embroidery-sold-out/
END:VEVENT
BEGIN:VEVENT
DTSTART;TZID=America/Chicago:20210116T090000
DTEND;TZID=America/Chicago:20210116T160000
DTSTAMP:20210806T131907
CREATED:20210116T060000Z
LAST-MODIFIED:20210101T195101Z
UID:3336-1610787600-1610812800@vesterheim.org
SUMMARY:Introduction to Sámi-Inspired Embroidery
DESCRIPTION:
URL:https://vesterheim.org/program/introduction-to-sami-inspired-embroidery/
ATTACH;FMTTYPE=image/jpeg:https://vesterheim.org/wp-content/uploads/2020/12/Refsal-Sami-inspired-jewlery-600-A6bsXK.tmp_.jpg
END:VEVENT
END:VCALENDAR