BEGIN:VCALENDAR
VERSION:2.0
PRODID:-//Vesterheim Norwegian-American - ECPv5.7.0//NONSGML v1.0//EN
CALSCALE:GREGORIAN
METHOD:PUBLISH
X-WR-CALNAME:Vesterheim Norwegian-American
X-ORIGINAL-URL:https://vesterheim.org
X-WR-CALDESC:Events for Vesterheim Norwegian-American
BEGIN:VTIMEZONE
TZID:America/Chicago
BEGIN:DAYLIGHT
TZOFFSETFROM:-0600
TZOFFSETTO:-0500
TZNAME:CDT
DTSTART:20210314T080000
END:DAYLIGHT
BEGIN:STANDARD
TZOFFSETFROM:-0500
TZOFFSETTO:-0600
TZNAME:CST
DTSTART:20211107T070000
END:STANDARD
END:VTIMEZONE
BEGIN:VEVENT
DTSTART;TZID=America/Chicago:20210119T100000
DTEND;TZID=America/Chicago:20210119T223000
DTSTAMP:20210806T132000
CREATED:20210119T160000Z
LAST-MODIFIED:20210127T141548Z
UID:3356-1611050400-1611095400@vesterheim.org
SUMMARY:Barnetimen (Children's Hour)
DESCRIPTION:[vc_custom_heading text=”Barnetimen (Children’s Hour)” font_container=”tag:h1|text_align:left” use_theme_fonts=”yes” el_class=”huge-heading green”][vc_custom_heading text=”Released on January 19\, 2021 | 10:00 a.m.” use_theme_fonts=”yes” el_class=”medium-heading bold”][vc_custom_heading text=”Location: Online” font_container=”tag:h3|text_align:left” use_theme_fonts=”yes” el_class=”small-heading teal”]It’s a snow day\, or snødag\, during Barnetimen (Children’s Hour). Preschoolers and their caregivers are invited to connect online with Jennifer Kovarik\, Vesterheim’s Youth Educator\, to explore objects and stories in the museum’s collection and make art inspired by those objects. \nA new video will be released on Tuesday\, January 19\, from 10-10:30 a.m. on Vesterheim’s website here or Facebook page. The video will be available for later viewing on Vesterheim’s YouTube channel. \nDiscover snowflakes in the museum’s collection\, make an indoor-safe “snowball” launcher for year-round winter fun\, and create unique snowflake decorations. \nInstructions for the make-at-home projects are available here:\nMarshmallow or Cotton Ball Snowflake Artwork\nSnowball Launcher \nBarnetimen programs are geared toward 3 – 5 year olds\, but all ages are welcome\, and new programs are available online the third Tuesday of the month\, September through April\, at 10 a.m. \nThis program is sponsored by the United States Regional Arts Resilience Fund Phase 1\, an initiative of Arts Midwest and its peer United States Regional Arts Organizations made possible by The Andrew W. Mellon Foundation; with additional support from local sponsors David and Brenda Carlson and Norwegian Mutual Insurance Association.
URL:https://vesterheim.org/program/barnetimen-childrens-hour-01-2021/
ATTACH;FMTTYPE=image/jpeg:https://vesterheim.org/wp-content/uploads/2017/07/barnetimen-people-kids-746by420-a3da9a.jpg
END:VEVENT
END:VCALENDAR