BEGIN:VCALENDAR
VERSION:2.0
PRODID:-//Vesterheim Norwegian-American - ECPv5.7.0//NONSGML v1.0//EN
CALSCALE:GREGORIAN
METHOD:PUBLISH
X-WR-CALNAME:Vesterheim Norwegian-American
X-ORIGINAL-URL:https://vesterheim.org
X-WR-CALDESC:Events for Vesterheim Norwegian-American
BEGIN:VTIMEZONE
TZID:America/Chicago
BEGIN:DAYLIGHT
TZOFFSETFROM:-0600
TZOFFSETTO:-0500
TZNAME:CDT
DTSTART:20210314T080000
END:DAYLIGHT
BEGIN:STANDARD
TZOFFSETFROM:-0500
TZOFFSETTO:-0600
TZNAME:CST
DTSTART:20211107T070000
END:STANDARD
END:VTIMEZONE
BEGIN:VEVENT
DTSTART;TZID=America/Chicago:20210123T000000
DTEND;TZID=America/Chicago:20210123T000000
DTSTAMP:20210806T132118
CREATED:20210205T204309Z
LAST-MODIFIED:20210210T205922Z
UID:3446-1611360000-1611360000@vesterheim.org
SUMMARY:Danish Rugbrod and Smorbrod at Home with True North Kitchen (SOLD OUT)
DESCRIPTION:
URL:https://vesterheim.org/program/danish-rugbrd-and-smrbrd-at-home-with-true-north-kitchen-sold-out/
END:VEVENT
BEGIN:VEVENT
DTSTART;TZID=America/Chicago:20210123T000000
DTEND;TZID=America/Chicago:20210123T000000
DTSTAMP:20210806T132118
CREATED:20210205T204309Z
LAST-MODIFIED:20210205T204309Z
UID:3447-1611360000-1611360000@vesterheim.org
SUMMARY:Introduction to the Basic Stroke Work of Rosemaling (SOLD OUT)
DESCRIPTION:
URL:https://vesterheim.org/program/introduction-to-the-basic-stroke-work-of-rosemaling-sold-out/
END:VEVENT
END:VCALENDAR