BEGIN:VCALENDAR
VERSION:2.0
PRODID:-//Vesterheim Norwegian-American - ECPv5.7.0//NONSGML v1.0//EN
CALSCALE:GREGORIAN
METHOD:PUBLISH
X-WR-CALNAME:Vesterheim Norwegian-American
X-ORIGINAL-URL:https://vesterheim.org
X-WR-CALDESC:Events for Vesterheim Norwegian-American
BEGIN:VTIMEZONE
TZID:America/Chicago
BEGIN:DAYLIGHT
TZOFFSETFROM:-0600
TZOFFSETTO:-0500
TZNAME:CDT
DTSTART:20210314T080000
END:DAYLIGHT
BEGIN:STANDARD
TZOFFSETFROM:-0500
TZOFFSETTO:-0600
TZNAME:CST
DTSTART:20211107T070000
END:STANDARD
END:VTIMEZONE
BEGIN:VEVENT
DTSTART;TZID=America/Chicago:20210710T090000
DTEND;TZID=America/Chicago:20210710T090000
DTSTAMP:20210723T013650
CREATED:20210427T145952Z
LAST-MODIFIED:20210427T145952Z
UID:3914-1625907600-1625907600@vesterheim.org
SUMMARY:Pick-Up Bandweaving with a Bandgrind
DESCRIPTION:
URL:https://vesterheim.org/program/pick-up-bandweaving-with-a-bandgrind-4/
CATEGORIES:Folk Art School
END:VEVENT
BEGIN:VEVENT
DTSTART;TZID=America/Chicago:20210710T143000
DTEND;TZID=America/Chicago:20210710T143000
DTSTAMP:20210723T013650
CREATED:20210427T145952Z
LAST-MODIFIED:20210427T145952Z
UID:3915-1625927400-1625927400@vesterheim.org
SUMMARY:Pick-Up Bandweaving with a Bandgrind
DESCRIPTION:
URL:https://vesterheim.org/program/pick-up-bandweaving-with-a-bandgrind-5/
CATEGORIES:Folk Art School
END:VEVENT
END:VCALENDAR