BEGIN:VCALENDAR
VERSION:2.0
PRODID:-//Vesterheim Norwegian-American - ECPv5.7.0//NONSGML v1.0//EN
CALSCALE:GREGORIAN
METHOD:PUBLISH
X-WR-CALNAME:Vesterheim Norwegian-American
X-ORIGINAL-URL:https://vesterheim.org
X-WR-CALDESC:Events for Vesterheim Norwegian-American
BEGIN:VTIMEZONE
TZID:America/Chicago
BEGIN:DAYLIGHT
TZOFFSETFROM:-0600
TZOFFSETTO:-0500
TZNAME:CDT
DTSTART:20210314T080000
END:DAYLIGHT
BEGIN:STANDARD
TZOFFSETFROM:-0500
TZOFFSETTO:-0600
TZNAME:CST
DTSTART:20211107T070000
END:STANDARD
END:VTIMEZONE
BEGIN:VEVENT
DTSTART;TZID=America/Chicago:20210711T110000
DTEND;TZID=America/Chicago:20210711T110000
DTSTAMP:20210723T013717
CREATED:20210427T145952Z
LAST-MODIFIED:20210427T145952Z
UID:3917-1626001200-1626001200@vesterheim.org
SUMMARY:Aquavit Brunch Cocktails
DESCRIPTION:
URL:https://vesterheim.org/program/aquavit-brunch-cocktails-2/
CATEGORIES:Folk Art School
END:VEVENT
BEGIN:VEVENT
DTSTART;TZID=America/Chicago:20210711T130000
DTEND;TZID=America/Chicago:20210711T130000
DTSTAMP:20210723T013717
CREATED:20210427T145952Z
LAST-MODIFIED:20210427T145952Z
UID:3916-1626008400-1626008400@vesterheim.org
SUMMARY:Pick-Up Bandweaving with a Bandgrind
DESCRIPTION:
URL:https://vesterheim.org/program/pick-up-bandweaving-with-a-bandgrind-6/
CATEGORIES:Folk Art School
END:VEVENT
END:VCALENDAR