BEGIN:VCALENDAR
VERSION:2.0
PRODID:-//Vesterheim Norwegian-American - ECPv5.7.0//NONSGML v1.0//EN
CALSCALE:GREGORIAN
METHOD:PUBLISH
X-WR-CALNAME:Vesterheim Norwegian-American
X-ORIGINAL-URL:https://vesterheim.org
X-WR-CALDESC:Events for Vesterheim Norwegian-American
BEGIN:VTIMEZONE
TZID:America/Chicago
BEGIN:DAYLIGHT
TZOFFSETFROM:-0600
TZOFFSETTO:-0500
TZNAME:CDT
DTSTART:20210314T080000
END:DAYLIGHT
BEGIN:STANDARD
TZOFFSETFROM:-0500
TZOFFSETTO:-0600
TZNAME:CST
DTSTART:20211107T070000
END:STANDARD
END:VTIMEZONE
BEGIN:VEVENT
DTSTART;TZID=America/Chicago:20210923T090000
DTEND;TZID=America/Chicago:20210923T090000
DTSTAMP:20210922T060948
CREATED:20210427T150002Z
LAST-MODIFIED:20210427T150002Z
UID:3965-1632387600-1632387600@vesterheim.org
SUMMARY:Card Weaving
DESCRIPTION:
URL:https://vesterheim.org/program/card-weaving-2/
CATEGORIES:Folk Art School
END:VEVENT
BEGIN:VEVENT
DTSTART;TZID=America/Chicago:20210923T151500
DTEND;TZID=America/Chicago:20210923T151500
DTSTAMP:20210922T060948
CREATED:20210720T031455Z
LAST-MODIFIED:20210720T031455Z
UID:4489-1632410100-1632410100@vesterheim.org
SUMMARY:Friluftsliv Klubb Kindergarten-2nd
DESCRIPTION:
URL:https://vesterheim.org/program/friluftsliv-klubb-kindergarten-2nd-3/
END:VEVENT
BEGIN:VEVENT
DTSTART;TZID=America/Chicago:20210923T170000
DTEND;TZID=America/Chicago:20210923T170000
DTSTAMP:20210922T060948
CREATED:20210427T145958Z
LAST-MODIFIED:20210427T145958Z
UID:3948-1632416400-1632416400@vesterheim.org
SUMMARY:Introduction to Tapestry Weaving
DESCRIPTION:
URL:https://vesterheim.org/program/introduction-to-tapestry-weaving-12/
CATEGORIES:Folk Art School
END:VEVENT
END:VCALENDAR