BEGIN:VCALENDAR
VERSION:2.0
PRODID:-//Vesterheim Norwegian-American - ECPv5.7.0//NONSGML v1.0//EN
CALSCALE:GREGORIAN
METHOD:PUBLISH
X-WR-CALNAME:Vesterheim Norwegian-American
X-ORIGINAL-URL:https://vesterheim.org
X-WR-CALDESC:Events for Vesterheim Norwegian-American
BEGIN:VTIMEZONE
TZID:America/Chicago
BEGIN:DAYLIGHT
TZOFFSETFROM:-0600
TZOFFSETTO:-0500
TZNAME:CDT
DTSTART:20210314T080000
END:DAYLIGHT
BEGIN:STANDARD
TZOFFSETFROM:-0500
TZOFFSETTO:-0600
TZNAME:CST
DTSTART:20211107T070000
END:STANDARD
END:VTIMEZONE
BEGIN:VEVENT
DTSTART;TZID=America/Chicago:20210928T180000
DTEND;TZID=America/Chicago:20210928T180000
DTSTAMP:20210922T061147
CREATED:20210427T145955Z
LAST-MODIFIED:20210427T145955Z
UID:3932-1632852000-1632852000@vesterheim.org
SUMMARY:Norwegian Language (Level 3)
DESCRIPTION:
URL:https://vesterheim.org/program/norwegian-language-level-3-9/
CATEGORIES:Folk Art School
END:VEVENT
BEGIN:VEVENT
DTSTART;TZID=America/Chicago:20210928T193000
DTEND;TZID=America/Chicago:20210928T193000
DTSTAMP:20210922T061147
CREATED:20210427T145957Z
LAST-MODIFIED:20210427T145957Z
UID:3940-1632857400-1632857400@vesterheim.org
SUMMARY:Norwegian Language Starter Session (Level 1)
DESCRIPTION:
URL:https://vesterheim.org/program/norwegian-language-starter-session-level-1-9/
CATEGORIES:Folk Art School
END:VEVENT
END:VCALENDAR