BEGIN:VCALENDAR
VERSION:2.0
PRODID:-//Vesterheim Norwegian-American - ECPv5.7.0//NONSGML v1.0//EN
CALSCALE:GREGORIAN
METHOD:PUBLISH
X-WR-CALNAME:Vesterheim Norwegian-American
X-ORIGINAL-URL:https://vesterheim.org
X-WR-CALDESC:Events for Vesterheim Norwegian-American
BEGIN:VTIMEZONE
TZID:America/Chicago
BEGIN:DAYLIGHT
TZOFFSETFROM:-0600
TZOFFSETTO:-0500
TZNAME:CDT
DTSTART:20210314T080000
END:DAYLIGHT
BEGIN:STANDARD
TZOFFSETFROM:-0500
TZOFFSETTO:-0600
TZNAME:CST
DTSTART:20211107T070000
END:STANDARD
END:VTIMEZONE
BEGIN:VEVENT
DTSTART;TZID=America/Chicago:20210425T100000
DTEND;TZID=America/Chicago:20210425T100000
DTSTAMP:20210720T024925
CREATED:20210210T133250Z
LAST-MODIFIED:20210210T191624Z
UID:3565-1619344800-1619344800@vesterheim.org
SUMMARY:A Modern Syttende Mai: An Intimate Cook-Along Class with Nevada Berg of North Wild Kitchen
DESCRIPTION:
URL:https://vesterheim.org/program/a-modern-syttende-mai-an-intimate-cook-along-class-with-nevada-berg-of-north-wild-kitchen-2/
CATEGORIES:Folk Art School
END:VEVENT
BEGIN:VEVENT
DTSTART;TZID=America/Chicago:20210425T190000
DTEND;TZID=America/Chicago:20210425T190000
DTSTAMP:20210720T024925
CREATED:20210210T133250Z
LAST-MODIFIED:20210210T191631Z
UID:3564-1619377200-1619377200@vesterheim.org
SUMMARY:Vesterheim Bokprat (Book Club)
DESCRIPTION:
URL:https://vesterheim.org/program/vesterheim-bokprat-book-club/
CATEGORIES:Folk Art School
END:VEVENT
END:VCALENDAR