BEGIN:VCALENDAR
VERSION:2.0
PRODID:-//Vesterheim Norwegian-American - ECPv5.7.0//NONSGML v1.0//EN
CALSCALE:GREGORIAN
METHOD:PUBLISH
X-WR-CALNAME:Vesterheim Norwegian-American
X-ORIGINAL-URL:https://vesterheim.org
X-WR-CALDESC:Events for Vesterheim Norwegian-American
BEGIN:VTIMEZONE
TZID:America/Chicago
BEGIN:DAYLIGHT
TZOFFSETFROM:-0600
TZOFFSETTO:-0500
TZNAME:CDT
DTSTART:20210314T080000
END:DAYLIGHT
BEGIN:STANDARD
TZOFFSETFROM:-0500
TZOFFSETTO:-0600
TZNAME:CST
DTSTART:20211107T070000
END:STANDARD
END:VTIMEZONE
BEGIN:VEVENT
DTSTART;TZID=America/Chicago:20210426T120000
DTEND;TZID=America/Chicago:20210426T120000
DTSTAMP:20210720T024942
CREATED:20210210T133237Z
LAST-MODIFIED:20210210T190951Z
UID:3519-1619438400-1619438400@vesterheim.org
SUMMARY:Norwegian Language Starter Session
DESCRIPTION:
URL:https://vesterheim.org/program/norwegian-language-starter-session-4/
CATEGORIES:Folk Art School
END:VEVENT
BEGIN:VEVENT
DTSTART;TZID=America/Chicago:20210426T180000
DTEND;TZID=America/Chicago:20210426T180000
DTSTAMP:20210720T024942
CREATED:20210210T133248Z
LAST-MODIFIED:20210210T191513Z
UID:3558-1619460000-1619460000@vesterheim.org
SUMMARY:Introduction to Tapestry Weaving
DESCRIPTION:
URL:https://vesterheim.org/program/introduction-to-tapestry-weaving-2/
CATEGORIES:Folk Art School
END:VEVENT
END:VCALENDAR