BEGIN:VCALENDAR
VERSION:2.0
PRODID:-//Vesterheim Norwegian-American - ECPv5.7.0//NONSGML v1.0//EN
CALSCALE:GREGORIAN
METHOD:PUBLISH
X-WR-CALNAME:Vesterheim Norwegian-American
X-ORIGINAL-URL:https://vesterheim.org
X-WR-CALDESC:Events for Vesterheim Norwegian-American
BEGIN:VTIMEZONE
TZID:America/Chicago
BEGIN:DAYLIGHT
TZOFFSETFROM:-0600
TZOFFSETTO:-0500
TZNAME:CDT
DTSTART:20210314T080000
END:DAYLIGHT
BEGIN:STANDARD
TZOFFSETFROM:-0500
TZOFFSETTO:-0600
TZNAME:CST
DTSTART:20211107T070000
END:STANDARD
END:VTIMEZONE
BEGIN:VEVENT
DTSTART;TZID=America/Chicago:20210428T120000
DTEND;TZID=America/Chicago:20210428T120000
DTSTAMP:20210720T025019
CREATED:20210210T133251Z
LAST-MODIFIED:20210210T191638Z
UID:3566-1619611200-1619611200@vesterheim.org
SUMMARY:Collection Connection: Exploring the Work of Vesterheim Gold Medalist Rosemalers
DESCRIPTION:
URL:https://vesterheim.org/program/collection-connection-exploring-the-work-of-vesterheim-gold-medalist-rosemalers/
CATEGORIES:Folk Art School
END:VEVENT
BEGIN:VEVENT
DTSTART;TZID=America/Chicago:20210428T200000
DTEND;TZID=America/Chicago:20210428T200000
DTSTAMP:20210720T025019
CREATED:20210210T133246Z
LAST-MODIFIED:20210210T191447Z
UID:3551-1619640000-1619640000@vesterheim.org
SUMMARY:Introduction to Figure Carving: The Stylized Rooster
DESCRIPTION:
URL:https://vesterheim.org/program/introduction-to-figure-carving-the-stylized-rooster-3/
CATEGORIES:Folk Art School
END:VEVENT
END:VCALENDAR