BEGIN:VCALENDAR
VERSION:2.0
PRODID:-//Vesterheim Norwegian-American - ECPv5.7.0//NONSGML v1.0//EN
CALSCALE:GREGORIAN
METHOD:PUBLISH
X-WR-CALNAME:Vesterheim Norwegian-American
X-ORIGINAL-URL:https://vesterheim.org
X-WR-CALDESC:Events for Vesterheim Norwegian-American
BEGIN:VTIMEZONE
TZID:America/Chicago
BEGIN:DAYLIGHT
TZOFFSETFROM:-0600
TZOFFSETTO:-0500
TZNAME:CDT
DTSTART:20210314T080000
END:DAYLIGHT
BEGIN:STANDARD
TZOFFSETFROM:-0500
TZOFFSETTO:-0600
TZNAME:CST
DTSTART:20211107T070000
END:STANDARD
END:VTIMEZONE
BEGIN:VEVENT
DTSTART;TZID=America/Chicago:20210501T000000
DTEND;TZID=America/Chicago:20210501T000000
DTSTAMP:20210720T025040
CREATED:20210210T133251Z
LAST-MODIFIED:20210210T191646Z
UID:3567-1619827200-1619827200@vesterheim.org
SUMMARY:May Family Norwegian Language Adventure: Norges Historie (History of Norway)
DESCRIPTION:
URL:https://vesterheim.org/program/may-family-norwegian-language-adventure-norges-historie-history-of-norway/
CATEGORIES:Folk Art School
END:VEVENT
BEGIN:VEVENT
DTSTART;TZID=America/Chicago:20210501T000000
DTEND;TZID=America/Chicago:20210501T000000
DTSTAMP:20210720T025040
CREATED:20210210T133252Z
LAST-MODIFIED:20210210T191700Z
UID:3569-1619827200-1619827200@vesterheim.org
SUMMARY:Handcraft at Home: Needle Felting
DESCRIPTION:
URL:https://vesterheim.org/program/handcraft-at-home-needle-felting/
CATEGORIES:Folk Art School
END:VEVENT
BEGIN:VEVENT
DTSTART;TZID=America/Chicago:20210501T090000
DTEND;TZID=America/Chicago:20210501T090000
DTSTAMP:20210720T025040
CREATED:20210210T133251Z
LAST-MODIFIED:20210210T191652Z
UID:3568-1619859600-1619859600@vesterheim.org
SUMMARY:Continuing the Basic Strokes of Rosemaling
DESCRIPTION:
URL:https://vesterheim.org/program/continuing-the-basic-strokes-of-rosemaling/
CATEGORIES:Folk Art School
END:VEVENT
END:VCALENDAR