BEGIN:VCALENDAR
VERSION:2.0
PRODID:-//Vesterheim Norwegian-American - ECPv5.7.0//NONSGML v1.0//EN
CALSCALE:GREGORIAN
METHOD:PUBLISH
X-WR-CALNAME:Vesterheim Norwegian-American
X-ORIGINAL-URL:https://vesterheim.org
X-WR-CALDESC:Events for Vesterheim Norwegian-American
BEGIN:VTIMEZONE
TZID:America/Chicago
BEGIN:DAYLIGHT
TZOFFSETFROM:-0600
TZOFFSETTO:-0500
TZNAME:CDT
DTSTART:20210314T080000
END:DAYLIGHT
BEGIN:STANDARD
TZOFFSETFROM:-0500
TZOFFSETTO:-0600
TZNAME:CST
DTSTART:20211107T070000
END:STANDARD
END:VTIMEZONE
BEGIN:VEVENT
DTSTART;TZID=America/Chicago:20210504T180000
DTEND;TZID=America/Chicago:20210504T180000
DTSTAMP:20210720T025157
CREATED:20210210T133239Z
LAST-MODIFIED:20210210T191108Z
UID:3528-1620151200-1620151200@vesterheim.org
SUMMARY:Continuing Beginning Norwegian
DESCRIPTION:
URL:https://vesterheim.org/program/continuing-beginning-norwegian-5/
CATEGORIES:Folk Art School
END:VEVENT
BEGIN:VEVENT
DTSTART;TZID=America/Chicago:20210504T193000
DTEND;TZID=America/Chicago:20210504T193000
DTSTAMP:20210720T025157
CREATED:20210210T133243Z
LAST-MODIFIED:20210210T191354Z
UID:3539-1620156600-1620156600@vesterheim.org
SUMMARY:Norwegian Language Starter Session
DESCRIPTION:
URL:https://vesterheim.org/program/norwegian-language-starter-session-16/
CATEGORIES:Folk Art School
END:VEVENT
END:VCALENDAR