BEGIN:VCALENDAR
VERSION:2.0
PRODID:-//Vesterheim Norwegian-American - ECPv5.7.0//NONSGML v1.0//EN
CALSCALE:GREGORIAN
METHOD:PUBLISH
X-WR-CALNAME:Vesterheim Norwegian-American
X-ORIGINAL-URL:https://vesterheim.org
X-WR-CALDESC:Events for Vesterheim Norwegian-American
BEGIN:VTIMEZONE
TZID:America/Chicago
BEGIN:DAYLIGHT
TZOFFSETFROM:-0600
TZOFFSETTO:-0500
TZNAME:CDT
DTSTART:20210314T080000
END:DAYLIGHT
BEGIN:STANDARD
TZOFFSETFROM:-0500
TZOFFSETTO:-0600
TZNAME:CST
DTSTART:20211107T070000
END:STANDARD
END:VTIMEZONE
BEGIN:VEVENT
DTSTART;TZID=America/Chicago:20210506T173000
DTEND;TZID=America/Chicago:20210506T173000
DTSTAMP:20210720T025214
CREATED:20210210T133252Z
LAST-MODIFIED:20210210T191706Z
UID:3570-1620322200-1620322200@vesterheim.org
SUMMARY:Thursday Night Soup: Fish Chowder
DESCRIPTION:
URL:https://vesterheim.org/program/thursday-night-soup-fish-chowder/
CATEGORIES:Folk Art School
END:VEVENT
END:VCALENDAR