BEGIN:VCALENDAR
VERSION:2.0
PRODID:-//Vesterheim Norwegian-American - ECPv5.7.0//NONSGML v1.0//EN
CALSCALE:GREGORIAN
METHOD:PUBLISH
X-WR-CALNAME:Vesterheim Norwegian-American
X-ORIGINAL-URL:https://vesterheim.org
X-WR-CALDESC:Events for Vesterheim Norwegian-American
BEGIN:VTIMEZONE
TZID:America/Chicago
BEGIN:DAYLIGHT
TZOFFSETFROM:-0600
TZOFFSETTO:-0500
TZNAME:CDT
DTSTART:20210314T080000
END:DAYLIGHT
BEGIN:STANDARD
TZOFFSETFROM:-0500
TZOFFSETTO:-0600
TZNAME:CST
DTSTART:20211107T070000
END:STANDARD
END:VTIMEZONE
BEGIN:VEVENT
DTSTART;TZID=America/Chicago:20210511T180000
DTEND;TZID=America/Chicago:20210511T180000
DTSTAMP:20210720T025302
CREATED:20210210T133240Z
LAST-MODIFIED:20210210T191140Z
UID:3529-1620756000-1620756000@vesterheim.org
SUMMARY:Continuing Beginning Norwegian
DESCRIPTION:
URL:https://vesterheim.org/program/continuing-beginning-norwegian-6/
CATEGORIES:Folk Art School
END:VEVENT
BEGIN:VEVENT
DTSTART;TZID=America/Chicago:20210511T193000
DTEND;TZID=America/Chicago:20210511T193000
DTSTAMP:20210720T025302
CREATED:20210210T133243Z
LAST-MODIFIED:20210210T191223Z
UID:3540-1620761400-1620761400@vesterheim.org
SUMMARY:Norwegian Language Starter Session
DESCRIPTION:
URL:https://vesterheim.org/program/norwegian-language-starter-session-12/
CATEGORIES:Folk Art School
END:VEVENT
END:VCALENDAR