BEGIN:VCALENDAR
VERSION:2.0
PRODID:-//Vesterheim Norwegian-American - ECPv5.7.0//NONSGML v1.0//EN
CALSCALE:GREGORIAN
METHOD:PUBLISH
X-WR-CALNAME:Vesterheim Norwegian-American
X-ORIGINAL-URL:https://vesterheim.org
X-WR-CALDESC:Events for Vesterheim Norwegian-American
BEGIN:VTIMEZONE
TZID:America/Chicago
BEGIN:DAYLIGHT
TZOFFSETFROM:-0600
TZOFFSETTO:-0500
TZNAME:CDT
DTSTART:20210314T080000
END:DAYLIGHT
BEGIN:STANDARD
TZOFFSETFROM:-0500
TZOFFSETTO:-0600
TZNAME:CST
DTSTART:20211107T070000
END:STANDARD
END:VTIMEZONE
BEGIN:VEVENT
DTSTART;TZID=America/Chicago:20210612T090000
DTEND;TZID=America/Chicago:20210612T090000
DTSTAMP:20210711T002316
CREATED:20210210T133304Z
LAST-MODIFIED:20210210T192305Z
UID:3609-1623488400-1623488400@vesterheim.org
SUMMARY:Introduction to the Basic Strokes of Rosemaling
DESCRIPTION:
URL:https://vesterheim.org/program/introduction-to-the-basic-strokes-of-rosemaling-4/
CATEGORIES:Folk Art School
END:VEVENT
END:VCALENDAR