BEGIN:VCALENDAR
VERSION:2.0
PRODID:-//Vesterheim Norwegian-American - ECPv5.7.0//NONSGML v1.0//EN
CALSCALE:GREGORIAN
METHOD:PUBLISH
X-WR-CALNAME:Vesterheim Norwegian-American
X-ORIGINAL-URL:https://vesterheim.org
X-WR-CALDESC:Events for Vesterheim Norwegian-American
BEGIN:VTIMEZONE
TZID:America/Chicago
BEGIN:DAYLIGHT
TZOFFSETFROM:-0600
TZOFFSETTO:-0500
TZNAME:CDT
DTSTART:20180311T080000
END:DAYLIGHT
BEGIN:STANDARD
TZOFFSETFROM:-0500
TZOFFSETTO:-0600
TZNAME:CST
DTSTART:20181104T070000
END:STANDARD
END:VTIMEZONE
BEGIN:VEVENT
DTSTART;TZID=America/Chicago:20180506T140000
DTEND;TZID=America/Chicago:20180506T160000
DTSTAMP:20210930T065442
CREATED:20180406T200001Z
LAST-MODIFIED:20190124T211320Z
UID:784-1525615200-1525622400@vesterheim.org
SUMMARY:Apple Grafting Workshop
DESCRIPTION:[vc_custom_heading text=”Apple Grafting Workshop” font_container=”tag:h1|text_align:left” use_theme_fonts=”yes” el_class=”huge-heading green”][vc_custom_heading text=”May 6 | 2:00-4:00 p.m.” use_theme_fonts=”yes” el_class=”medium-heading bold”]Join Dan Bussey\, one of America’s premier apple experts\, for a special Norwegian apple-grafting workshop! \nWe were inspired to offer this workshop by Knud Knudsen’s incredible black and white photos of orchards that you can see in the exhibit Rocks and Hard Places: Emigration through the Lens of Knud Knudsen\, open now at Vesterheim through December 31. \nWorkshop participants will learn how to graft three Norwegian apple varieties\, which they can bring home to start their own orchards. The workshop is free\, but you must register in advance. Space is limited\, so call 563-382-9681 to reserve a spot today! \nBussey\, widely regarded as one of America’s leading apple historians\, regularly lectures on apple history and teaches grafting workshops all over the country. He recently completed publishing The Illustrated History of Apples of the United States and Canada\, a seven volume encyclopedia of apples in North America. \nContact for more information: Zach Row-Heyveld\, zrow-heyveld@vesterhiem.org\, 563-382-9681
URL:https://vesterheim.org/program/apple-grafting-workshop/
END:VEVENT
END:VCALENDAR