BEGIN:VCALENDAR
VERSION:2.0
PRODID:-//Vesterheim Norwegian-American - ECPv5.7.0//NONSGML v1.0//EN
CALSCALE:GREGORIAN
METHOD:PUBLISH
X-WR-CALNAME:Vesterheim Norwegian-American
X-ORIGINAL-URL:https://vesterheim.org
X-WR-CALDESC:Events for Vesterheim Norwegian-American
BEGIN:VTIMEZONE
TZID:America/Chicago
BEGIN:DAYLIGHT
TZOFFSETFROM:-0600
TZOFFSETTO:-0500
TZNAME:CDT
DTSTART:20180311T080000
END:DAYLIGHT
BEGIN:STANDARD
TZOFFSETFROM:-0500
TZOFFSETTO:-0600
TZNAME:CST
DTSTART:20181104T070000
END:STANDARD
END:VTIMEZONE
BEGIN:VEVENT
DTSTART;TZID=America/Chicago:20180123T190000
DTEND;TZID=America/Chicago:20180123T210000
DTSTAMP:20210930T065530
CREATED:20180117T201844Z
LAST-MODIFIED:20190124T211320Z
UID:529-1516734000-1516741200@vesterheim.org
SUMMARY:Board Game Night
DESCRIPTION:[vc_custom_heading text=”Board Game Night” font_container=”tag:h1|text_align:left” use_theme_fonts=”yes” el_class=”huge-heading green”][vc_custom_heading text=”Location: Vesterheim Main Building” font_container=”tag:h3|text_align:left” use_theme_fonts=”yes” el_class=”small-heading teal”]Join Vesterheim\, Games XP\, and future close friends for Koselig Board Game Nights from 7:00-9:00 p.m. on January 23\, February 27\, and March 27 in the museum’s Main Building. When Norwegians want to get koselig\, they play board games with close friends and family. Bring your favorite game to share\, and come ready to learn to play new ones with new friends.
URL:https://vesterheim.org/program/board-game-night/2018-01-23/
ATTACH;FMTTYPE=image/jpeg:https://vesterheim.org/wp-content/uploads/2017/07/koselig-746by462-b2ac67-2.jpg
END:VEVENT
END:VCALENDAR