BEGIN:VCALENDAR
VERSION:2.0
PRODID:-//Vesterheim Norwegian-American - ECPv5.2.1//NONSGML v1.0//EN
CALSCALE:GREGORIAN
METHOD:PUBLISH
X-WR-CALNAME:Vesterheim Norwegian-American
X-ORIGINAL-URL:https://vesterheim.org
X-WR-CALDESC:Events for Vesterheim Norwegian-American
BEGIN:VTIMEZONE
TZID:America/Chicago
BEGIN:DAYLIGHT
TZOFFSETFROM:-0600
TZOFFSETTO:-0500
TZNAME:CDT
DTSTART:20190310T080000
END:DAYLIGHT
BEGIN:STANDARD
TZOFFSETFROM:-0500
TZOFFSETTO:-0600
TZNAME:CST
DTSTART:20191103T070000
END:STANDARD
END:VTIMEZONE
BEGIN:VEVENT
DTSTART;VALUE=DATE:20191019
DTEND;VALUE=DATE:20191020
DTSTAMP:20210508T114832
CREATED:20190529T190357Z
LAST-MODIFIED:20190909T203226Z
UID:1770-1571443200-1571529599@vesterheim.org
SUMMARY:Chicago Friends of Vesterheim Event
DESCRIPTION:[vc_custom_heading text=”Getting It Together: Museum Strategies To Simplify Your Stuff and Live More Intentionally” font_container=”tag:h1|text_align:left” use_theme_fonts=”yes” el_class=”huge-heading green”][vc_custom_heading text=”Chicago Friends of Vesterheim Event” use_theme_fonts=”yes” el_class=”medium-heading bold”][vc_custom_heading text=”October 19\, 2019\, 11 a.m. -1:30 p.m.” use_theme_fonts=”yes” el_class=”medium-heading bold”][vc_custom_heading text=”Location: Rolling Green Country Club | 2525 East Rand Road\, Arlington Heights\, IL” font_container=”tag:h3|text_align:left” use_theme_fonts=”yes” el_class=”small-heading teal”]The Chicago Area Friends of Vesterheim are pleased to invite you to this benefit for Vesterheim! Everyone is welcome. \n11:00 a.m.-12:00 p.m. – Social Hour and Shopping\nFeaturing complimentary Norwegian treats\, a cash bar\, and a large pop-up shop from the Vesterheim Museum Store \n12:00 – 1:30 – Luncheon & Program\nWith Zach Row-Heyveld\, Vesterheim’s Exhibitions Manager and Chris Johnson\, Vesterheim’s President/CEO \nProgram\nGetting It Together:\nMuseum Strategies To Simplify Your Stuff and Live More Intentionally\nHave your adult kids moved out of the house\, but somehow it’s still full of things? Are your attics and basements full of heirlooms? Do you rent one (or more) storage units? Does the thought of needing to downsize cause you to break out in hives? If you’re like most people\, you’re probably struggling to figure out what to do with all of your stuff. Well\, museums can actually teach you a lot about how to prioritize your things! This fun\, interactive presentation is designed to help you develop creative strategies for decluttering and living more intentionally. \nMenu\nBistro Filet Medalliions Au Poivre\, Rosemary Red Skinned Potatoes and Roasted Baby Carrots. All meals include a house salad\, warm rolls\, coffee and ice tea.\nDessert is a Warm Apple Raisin Strudel. Each table will also be served LEFSE! \nAdvance reservations only.\nEarly Bird By October 11: $60 \nAfter October 11: $70 \nValet service available. \nContact to register: Anna Runestad\, arunestad@vesterheim.org\, 563-382-9681 ext. 107
URL:https://vesterheim.org/program/chicago-friends-of-vesterheim-event/
CATEGORIES:Across Country
ATTACH;FMTTYPE=image/jpeg:https://vesterheim.org/wp-content/uploads/2018/04/twin-cities1.jpg
END:VEVENT
END:VCALENDAR