BEGIN:VCALENDAR
VERSION:2.0
PRODID:-//Vesterheim Norwegian-American - ECPv5.2.1//NONSGML v1.0//EN
CALSCALE:GREGORIAN
METHOD:PUBLISH
X-WR-CALNAME:Vesterheim Norwegian-American
X-ORIGINAL-URL:https://vesterheim.org
X-WR-CALDESC:Events for Vesterheim Norwegian-American
BEGIN:VTIMEZONE
TZID:America/Chicago
BEGIN:DAYLIGHT
TZOFFSETFROM:-0600
TZOFFSETTO:-0500
TZNAME:CDT
DTSTART:20190310T080000
END:DAYLIGHT
BEGIN:STANDARD
TZOFFSETFROM:-0500
TZOFFSETTO:-0600
TZNAME:CST
DTSTART:20191103T070000
END:STANDARD
END:VTIMEZONE
BEGIN:VEVENT
DTSTART;TZID=America/Chicago:20190718T170000
DTEND;TZID=America/Chicago:20190718T200000
DTSTAMP:20210507T194638
CREATED:20190425T131244Z
LAST-MODIFIED:20190808T134429Z
UID:1647-1563469200-1563480000@vesterheim.org
SUMMARY:Community Open House for Tattoo: Identity Through Ink
DESCRIPTION:[vc_custom_heading text=”Community Open House for Tattoo: Identity Through Ink” font_container=”tag:h1|text_align:left” use_theme_fonts=”yes” el_class=”huge-heading green”][vc_custom_heading text=”July 18 | 5:00-8:00 p.m.” use_theme_fonts=”yes” el_class=”medium-heading bold”]Celebrate the exhibit Tattoo: Identity Through Ink on July 18 from 5:00-8:00 p.m. with a free community event. Free Admission. Everyone is invited. \nRemarks will be at 6:00 p.m. There will be appetizers\, wine from the Rowley Family Vineyard\, and the last chance to try Valkryie Strike IPA from Toppling Goliath Brewery. \nWe’ll have a tattoo design contest\, so come ready with your own original design\, or make one at the event from 5:00-6:00 p.m. Visitors will vote at 6:30 p.m. The winning design will be announced at 7:00 p.m. and will be made into temporary tattoos for sale in the Museum Store. \nThe exhibition Tattoo: Identity Through Ink is open June 1\, 2019 through April 26\, 2020\, and it tells the story of tattoos and the people who have them. Of course there is a Scandinavian connection–with celebrated artists like Norwegian Johan Frederik Knudsen and Norwegian-American Amund Dietzel\, the question of whether or not Vikings had tattoos\, and the rise of a whole modern Neo-Nordic style of tattooing. But the exhibition also looks more deeply at the traditions of body ornamentation in other cultures and connections to them. \nThe guest curator is Lars Krutak\, a Research Associate at the Museum of International Folk Art in Santa Fe\, New Mexico\, is a scholar of body art and has authored four books on the subject of Indigenous body modification. The exhibit is sponsored by Nick and Courtney Rowley with community partners Toppling Goliath Brewing Co. and Brock’s Valhalla Tattoo. \nFind out more about the exhibit and other exhibit events here.
URL:https://vesterheim.org/program/community-open-house-for-tattoo-identity-through-ink/
ATTACH;FMTTYPE=image/jpeg:https://vesterheim.org/wp-content/uploads/2019/04/tattoo-exhibit-brock.jpg
END:VEVENT
END:VCALENDAR