BEGIN:VCALENDAR
VERSION:2.0
PRODID:-//Vesterheim Norwegian-American - ECPv5.2.1//NONSGML v1.0//EN
CALSCALE:GREGORIAN
METHOD:PUBLISH
X-WR-CALNAME:Vesterheim Norwegian-American
X-ORIGINAL-URL:https://vesterheim.org
X-WR-CALDESC:Events for Vesterheim Norwegian-American
BEGIN:VTIMEZONE
TZID:America/Chicago
BEGIN:DAYLIGHT
TZOFFSETFROM:-0600
TZOFFSETTO:-0500
TZNAME:CDT
DTSTART:20190310T080000
END:DAYLIGHT
BEGIN:STANDARD
TZOFFSETFROM:-0500
TZOFFSETTO:-0600
TZNAME:CST
DTSTART:20191103T070000
END:STANDARD
END:VTIMEZONE
BEGIN:VEVENT
DTSTART;TZID=America/Chicago:20190501T080000
DTEND;TZID=America/Chicago:20190501T170000
DTSTAMP:20210508T114619
CREATED:20190107T201106Z
LAST-MODIFIED:20190808T151154Z
UID:1432-1556697600-1556730000@vesterheim.org
SUMMARY:Guided Tour Season Begins—Heritage Park
DESCRIPTION:[vc_custom_heading text=”Guided Tour Season Begins—Heritage Park” font_container=”tag:h1|text_align:left” use_theme_fonts=”yes” el_class=”huge-heading green”][vc_custom_heading text=”Daily May 1-October 31 | 1:30 p.m.” use_theme_fonts=”yes” el_class=”medium-heading bold”]The 12 historic buildings in Vesterheim’s Heritage Park can be viewed by guided tour from May 1 through Oct. 31. The tours are scheduled at 1:30 p.m. daily and are included with admission price. (Tours occasionally take place at different times. Please confirm tour time with a desk attendant upon your arrival\, or call ahead—563-382-9681.) \nThese guided tours offer a unique look into the history of each building and the people who used them. \nThe buildings are closed at all other times\, but visitors can walk the grounds\, view the exterior of the buildings\, and learn the story of each building through interpretive signs.
URL:https://vesterheim.org/program/guided-tour-season-begins-heritage-park/2019-05-01/
ATTACH;FMTTYPE=image/jpeg:https://vesterheim.org/wp-content/uploads/2017/07/egge-koren-house-746by420-bc9e28.jpg
END:VEVENT
END:VCALENDAR