BEGIN:VCALENDAR
VERSION:2.0
PRODID:-//Vesterheim Norwegian-American - ECPv5.2.1//NONSGML v1.0//EN
CALSCALE:GREGORIAN
METHOD:PUBLISH
X-WR-CALNAME:Vesterheim Norwegian-American
X-ORIGINAL-URL:https://vesterheim.org
X-WR-CALDESC:Events for Vesterheim Norwegian-American
BEGIN:VTIMEZONE
TZID:America/Chicago
BEGIN:DAYLIGHT
TZOFFSETFROM:-0600
TZOFFSETTO:-0500
TZNAME:CDT
DTSTART:20190310T080000
END:DAYLIGHT
BEGIN:STANDARD
TZOFFSETFROM:-0500
TZOFFSETTO:-0600
TZNAME:CST
DTSTART:20191103T070000
END:STANDARD
END:VTIMEZONE
BEGIN:VEVENT
DTSTART;TZID=America/Chicago:20190913T190000
DTEND;TZID=America/Chicago:20190913T190000
DTSTAMP:20210508T114815
CREATED:20190829T162247Z
LAST-MODIFIED:20190829T162316Z
UID:2164-1568401200-1568401200@vesterheim.org
SUMMARY:LaFleur Presentation About Tapestry Artist Frida Hansen
DESCRIPTION:[vc_custom_heading text=”LaFleur Presentation About Tapestry Artist Frida Hansen” font_container=”tag:h1|text_align:left” use_theme_fonts=”yes” el_class=”huge-heading green”][vc_custom_heading text=”Sept. 13\, 2019 | 7:00 p.m.” use_theme_fonts=”yes” el_class=”medium-heading bold”][vc_custom_heading text=”Location: Vesterheim Amdal-Odland Heritage Center / 523 W. Water St.” font_container=”tag:h3|text_align:left” use_theme_fonts=”yes” el_class=”small-heading teal”]Join textile artist Robbie LaFleur for a lecture on the life and work of the innovative Norwegian tapestry artist Frida Hansen. Suggested donation is $5. \nLaFleur spent the month of May in Norway on a fellowship from the American Scandinavian Foundation. She studied the weaving of Hansen\, whose work captured flowers\, enigmatic women\, trees\, and mermaids in flowing Art Nouveau style. \n“In addition to monumental tapestries\, Hansen designed transparencies—curtains and hangings with wool warp and weft. In her signature technique she left open\, unwoven areas in the weaving\, making the textiles flowing and flexible. Her striking designs were enhanced by the play of light and dark with the open warps\,” LaFleur said. \nLaFleur is in Decorah to teach the class Billedvev (Picture Weaving)—Norwegian Tapestry Techniques at Vesterheim Folk Art School. She studied weaving at Valdres Husflidsskole in Fagernes\, Norway\, and with Scandinavian instructors at workshops in Norway and the U.S. She coordinates the Weavers Guild of Minnesota Scandinavian Weavers Study Group and publishes the quarterly Norwegian Textile Letter.
URL:https://vesterheim.org/program/lafleur-presentation-about-tapestry-artist-frida-hansen/
ATTACH;FMTTYPE=image/jpeg:https://vesterheim.org/wp-content/uploads/2019/08/Hanson1-746x420.jpg
END:VEVENT
END:VCALENDAR