BEGIN:VCALENDAR
VERSION:2.0
PRODID:-//Vesterheim Norwegian-American - ECPv5.2.1//NONSGML v1.0//EN
CALSCALE:GREGORIAN
METHOD:PUBLISH
X-WR-CALNAME:Vesterheim Norwegian-American
X-ORIGINAL-URL:https://vesterheim.org
X-WR-CALDESC:Events for Vesterheim Norwegian-American
BEGIN:VTIMEZONE
TZID:America/Chicago
BEGIN:DAYLIGHT
TZOFFSETFROM:-0600
TZOFFSETTO:-0500
TZNAME:CDT
DTSTART:20190310T080000
END:DAYLIGHT
BEGIN:STANDARD
TZOFFSETFROM:-0500
TZOFFSETTO:-0600
TZNAME:CST
DTSTART:20191103T070000
END:STANDARD
END:VTIMEZONE
BEGIN:VEVENT
DTSTART;TZID=America/Chicago:20190725T163000
DTEND;TZID=America/Chicago:20190725T173000
DTSTAMP:20210507T194805
CREATED:20180502T204041Z
LAST-MODIFIED:20190808T144852Z
UID:868-1564072200-1564075800@vesterheim.org
SUMMARY:Meet & Greet Folk Art School Reception
DESCRIPTION:[vc_custom_heading text=”Meet & Greet Folk Art School Reception” font_container=”tag:h1|text_align:left” use_theme_fonts=”yes” el_class=”huge-heading green”][vc_custom_heading text=”July 25\, 2019 | 4:30-5:30 p.m.” use_theme_fonts=”yes” el_class=”medium-heading bold”][vc_custom_heading text=”Location: Vesterheim’s Main Building Lobby” font_container=”tag:h3|text_align:left” use_theme_fonts=”yes” el_class=”small-heading teal”]Open to Vesterheim folk-art students\, instructors\, and demonstrators. Drop by this informal reception to gather with other instructors and students. Refreshments will be served! \nContact for more information:  563-382-9681
URL:https://vesterheim.org/program/meet-greet-folk-art-school-reception/
ATTACH;FMTTYPE=image/jpeg:https://vesterheim.org/wp-content/uploads/2018/05/meetngreet.jpg
END:VEVENT
END:VCALENDAR