BEGIN:VCALENDAR
VERSION:2.0
PRODID:-//Vesterheim Norwegian-American - ECPv5.7.0//NONSGML v1.0//EN
CALSCALE:GREGORIAN
METHOD:PUBLISH
X-WR-CALNAME:Vesterheim Norwegian-American
X-ORIGINAL-URL:https://vesterheim.org
X-WR-CALDESC:Events for Vesterheim Norwegian-American
BEGIN:VTIMEZONE
TZID:America/Chicago
BEGIN:DAYLIGHT
TZOFFSETFROM:-0600
TZOFFSETTO:-0500
TZNAME:CDT
DTSTART:20180311T080000
END:DAYLIGHT
BEGIN:STANDARD
TZOFFSETFROM:-0500
TZOFFSETTO:-0600
TZNAME:CST
DTSTART:20181104T070000
END:STANDARD
END:VTIMEZONE
BEGIN:VEVENT
DTSTART;TZID=America/Chicago:20180514T183000
DTEND;TZID=America/Chicago:20180514T203000
DTSTAMP:20210930T065547
CREATED:20180425T200451Z
LAST-MODIFIED:20190124T211320Z
UID:845-1526322600-1526329800@vesterheim.org
SUMMARY:North Sea to South Seas: Norwegian Sugar Cane Story
DESCRIPTION:[vc_custom_heading text=”North Sea to South Seas: Norwegian Sugar Cane Story” font_container=”tag:h1|text_align:left” use_theme_fonts=”yes” el_class=”huge-heading green”][vc_custom_heading text=”May 14 | 6:30 p.m.” use_theme_fonts=”yes” el_class=”medium-heading bold”][vc_custom_heading text=”Location: Story City Community Building\, 503 Elm St.\, Story City\, Iowa” font_container=”tag:h3|text_align:left” use_theme_fonts=”yes” el_class=”small-heading teal”]Vesterheim is teaming up with the Sons of Norway Kong Sverre Lodge #482 in Story City and Vesterheim members are invited! \nKate Martinson\, retired Luther College professor and Vesterheim volunteer and trustee\, will present North Sea to South Seas: The Norwegian Sugar Cane Story.  \nA little known chapter of the Norwegian-American immigrant story is of the Norwegians who became owners and workers within the exploding sugar cane industry on the island of Kauai in the late nineteenth century. This presentation traces the push and pull factors of their move from the North Sea to the South Seas and the challenges those immigrants faced. \nSupper will be served\, so please help us plan with an RSVP by May 9! \nContact to RSVP and for more information: Vesterheim Development Event Coordinator Karla Brown\, kbrown@vesterheim.org\, 563-382-9681 x 107
URL:https://vesterheim.org/program/north-sea-to-south-seas-norwegian-sugar-cane-story/
CATEGORIES:Across Country
ATTACH;FMTTYPE=image/jpeg:https://vesterheim.org/wp-content/uploads/2018/04/StoryCity2018Image.jpg
END:VEVENT
END:VCALENDAR