BEGIN:VCALENDAR
VERSION:2.0
PRODID:-//Vesterheim Norwegian-American - ECPv5.2.1//NONSGML v1.0//EN
CALSCALE:GREGORIAN
METHOD:PUBLISH
X-WR-CALNAME:Vesterheim Norwegian-American
X-ORIGINAL-URL:https://vesterheim.org
X-WR-CALDESC:Events for Vesterheim Norwegian-American
BEGIN:VTIMEZONE
TZID:America/Chicago
BEGIN:DAYLIGHT
TZOFFSETFROM:-0600
TZOFFSETTO:-0500
TZNAME:CDT
DTSTART:20190310T080000
END:DAYLIGHT
BEGIN:STANDARD
TZOFFSETFROM:-0500
TZOFFSETTO:-0600
TZNAME:CST
DTSTART:20191103T070000
END:STANDARD
END:VTIMEZONE
BEGIN:VEVENT
DTSTART;TZID=America/Chicago:20190601T190000
DTEND;TZID=America/Chicago:20190601T210000
DTSTAMP:20210507T194617
CREATED:20190422T135039Z
LAST-MODIFIED:20190808T134406Z
UID:1643-1559415600-1559422800@vesterheim.org
SUMMARY:Opening Event for Tattoo: Identity through Ink
DESCRIPTION:[vc_custom_heading text=”Opening Event for Tattoo: Identity through Ink” font_container=”tag:h1|text_align:left” use_theme_fonts=”yes” el_class=”huge-heading green”][vc_custom_heading text=”June 1\, 2019 | 7:00-9:00 p.m.” use_theme_fonts=”yes” el_class=”medium-heading bold”]Celebrate the opening of Tattoo: Identity Through Ink on June 1 from 7:00-9:00 p.m. There will be exclusive Valkyrie Strike IPA from Toppling Goliath Brewery and live tattooing in the gallery by award-winning tattoo artist Brock Swenson! \nThe exhibition Tattoo: Identity Through Ink is open June 1\, 2019 through April 26\, 2020\, and it tells the story of tattoos and the people who have them. Of course there is a Scandinavian connection–with celebrated artists like Norwegian Johan Frederik Knudsen and Norwegian-American Amund Dietzel\, the question of whether or not Vikings had tattoos\, and the rise of a whole modern Neo-Nordic style of tattooing. But the exhibition also looks more deeply at the traditions of body ornamentation in other cultures and connections to them. \nThe guest curator is Lars Krutak\, a Research Associate at the Museum of International Folk Art in Santa Fe\, New Mexico\, is a scholar of body art and has authored four books on the subject of Indigenous body modification. The exhibit is sponsored by Nick and Courtney Rowley with community partners Toppling Goliath Brewing Co. and Brock’s Valhalla Tattoo. \nFind out more about the exhibit and other exhibit events here.
URL:https://vesterheim.org/program/opening-event-for-tattoo-identity-through-ink/
ATTACH;FMTTYPE=image/jpeg:https://vesterheim.org/wp-content/uploads/2019/04/tattoo-exhibit-brock-feature.jpg
END:VEVENT
END:VCALENDAR