BEGIN:VCALENDAR
VERSION:2.0
PRODID:-//Vesterheim Norwegian-American - ECPv5.7.0//NONSGML v1.0//EN
CALSCALE:GREGORIAN
METHOD:PUBLISH
X-WR-CALNAME:Vesterheim Norwegian-American
X-ORIGINAL-URL:https://vesterheim.org
X-WR-CALDESC:Events for Vesterheim Norwegian-American
BEGIN:VTIMEZONE
TZID:America/Chicago
BEGIN:DAYLIGHT
TZOFFSETFROM:-0600
TZOFFSETTO:-0500
TZNAME:CDT
DTSTART:20200308T080000
END:DAYLIGHT
BEGIN:STANDARD
TZOFFSETFROM:-0500
TZOFFSETTO:-0600
TZNAME:CST
DTSTART:20201101T070000
END:STANDARD
END:VTIMEZONE
BEGIN:VEVENT
DTSTART;VALUE=DATE:20200509
DTEND;VALUE=DATE:20200510
DTSTAMP:20211007T085906
CREATED:20191216T221132Z
LAST-MODIFIED:20200330T162049Z
UID:2543-1588982400-1589068799@vesterheim.org
SUMMARY:Second Saturday
DESCRIPTION:[vc_custom_heading text=”Second Saturday” font_container=”tag:h1|text_align:left” use_theme_fonts=”yes” el_class=”huge-heading green”]This event has been canceled. Vesterheim is temporarily closed due to the COVID-19 virus. Find more info and updates here. \nVesterheim is changing things up for the new year 2020! On the second Saturday of each month\, we’ll welcome everyone with free admission during our open hours. We’re also offering fun family-friendly activities from 1:00-3:00 p.m. Check our calendar for information about specific activities. \nSecond Saturdays at Vesterheim are sponsored by the American Scandinavian Foundation.
URL:https://vesterheim.org/program/second-saturday-2020-05-09/
ATTACH;FMTTYPE=image/jpeg:https://vesterheim.org/wp-content/uploads/2019/12/secondsaturdaylogo-746x420-1.jpg
END:VEVENT
END:VCALENDAR