BEGIN:VCALENDAR
VERSION:2.0
PRODID:-//Vesterheim Norwegian-American - ECPv5.2.1//NONSGML v1.0//EN
CALSCALE:GREGORIAN
METHOD:PUBLISH
X-WR-CALNAME:Vesterheim Norwegian-American
X-ORIGINAL-URL:https://vesterheim.org
X-WR-CALDESC:Events for Vesterheim Norwegian-American
BEGIN:VTIMEZONE
TZID:America/Chicago
BEGIN:DAYLIGHT
TZOFFSETFROM:-0600
TZOFFSETTO:-0500
TZNAME:CDT
DTSTART:20190310T080000
END:DAYLIGHT
BEGIN:STANDARD
TZOFFSETFROM:-0500
TZOFFSETTO:-0600
TZNAME:CST
DTSTART:20191103T070000
END:STANDARD
END:VTIMEZONE
BEGIN:VEVENT
DTSTART;TZID=America/Chicago:20190921T090000
DTEND;TZID=America/Chicago:20190921T170000
DTSTAMP:20210508T114851
CREATED:20190912T181807Z
LAST-MODIFIED:20190912T181807Z
UID:2222-1569056400-1569085200@vesterheim.org
SUMMARY:Special Activities during Luther College Family Weekend 2019
DESCRIPTION:[vc_custom_heading text=”Special Activities during Luther College Family Weekend 2019″ font_container=”tag:h1|text_align:left” use_theme_fonts=”yes” el_class=”huge-heading green”][vc_custom_heading text=”September 21\, 2019 | 9:00 a.m. – 5:00 p.m.” use_theme_fonts=”yes” el_class=”medium-heading bold”][vc_custom_heading text=”Location: Vesterheim’s Main Building\, 502 W. Water St.” font_container=”tag:h3|text_align:left” use_theme_fonts=”yes” el_class=”small-heading teal”]On Saturday\, September 21\, 2019\, during Luther College Family Weekend\, Vesterheim is hosting special folk-art demonstrations throughout the day. We invite everyone to the museum to enjoy the activities and help us welcome Luther families to Decorah. \nThroughout the day\, folk-art demonstrators and greeters will be current or former Luther staff\, faculty\, or students. Special exhibits on view at the museum include The Museum Lab\, Tattoo: Identity Through Ink\, and Favorite Things. \nRegular admission prices apply. Luther College faculty\, staff\, and students\, and Vesterheim Museum members receive free admission to Vesterheim all year long. \nNote: The event is held during Smithsonian Magazine’s Museum Day Live!\, which will provide two free tickets to Vesterheim if tickets are printed from their website here.
URL:https://vesterheim.org/program/special-activities-during-luther-college-family-weekend-2019/
ATTACH;FMTTYPE=image/jpeg:https://vesterheim.org/wp-content/uploads/2019/09/luther-day-web.jpg
END:VEVENT
END:VCALENDAR