BEGIN:VCALENDAR
VERSION:2.0
PRODID:-//Vesterheim Norwegian-American - ECPv5.2.1//NONSGML v1.0//EN
CALSCALE:GREGORIAN
METHOD:PUBLISH
X-WR-CALNAME:Vesterheim Norwegian-American
X-ORIGINAL-URL:https://vesterheim.org
X-WR-CALDESC:Events for Vesterheim Norwegian-American
BEGIN:VTIMEZONE
TZID:America/Chicago
BEGIN:DAYLIGHT
TZOFFSETFROM:-0600
TZOFFSETTO:-0500
TZNAME:CDT
DTSTART:20190310T080000
END:DAYLIGHT
BEGIN:STANDARD
TZOFFSETFROM:-0500
TZOFFSETTO:-0600
TZNAME:CST
DTSTART:20191103T070000
END:STANDARD
END:VTIMEZONE
BEGIN:VEVENT
DTSTART;TZID=America/Chicago:20191029T190000
DTEND;TZID=America/Chicago:20191029T200000
DTSTAMP:20210508T194141
CREATED:20191008T142850Z
LAST-MODIFIED:20191016T163725Z
UID:2260-1572375600-1572379200@vesterheim.org
SUMMARY:Tattoos\, Medievalism\, and White Nationalism by Lindsey Row-Heyveld
DESCRIPTION:[vc_custom_heading text=”Tattoos\, Medievalism\, and White Nationalism by Lindsey Row-Heyveld” font_container=”tag:h1|text_align:left” use_theme_fonts=”yes” el_class=”huge-heading green”][vc_custom_heading text=”October 29\, 2019 | 7:00 p.m.” use_theme_fonts=”yes” el_class=”medium-heading bold”][vc_custom_heading text=”Location: Olin Building\, Room 102\, Luther College\, Decorah\, IA” font_container=”tag:h3|text_align:left” use_theme_fonts=”yes” el_class=”small-heading teal”]This lecture explores how and why fantasies of medieval Europe\, especially Scandinavia\, have fueled the fires of white supremacy—and what we can do in response. Why are white supremacists so often sporting Nordic tattoos? Why are white supremacist groups fascinated by the ideas and images of medieval Scandinavia? Come and hear Row-Heyveld talk about how symbols intersect with the social issues of our time. \nLindsey Row-Heyveld is an Assistant Professor of English at Luther College\, in Decorah\, IA. In her teaching and in her research\, Professor Row-Heyveld is passionate about finding new pathways into unfamiliar worlds. \nFind out more about the exhibit Tattoo: Identity Through Ink here. \nThe exhibit is sponsored by Nick and Courtney Rowley. This event is in partnership with the Luther College Nordic Studies Department.
URL:https://vesterheim.org/program/tattoos-medievalism-and-white-nationalism-by-lindsey-row-heyveld/
END:VEVENT
END:VCALENDAR