BEGIN:VCALENDAR
VERSION:2.0
PRODID:-//Vesterheim Norwegian-American - ECPv5.7.0//NONSGML v1.0//EN
CALSCALE:GREGORIAN
METHOD:PUBLISH
X-WR-CALNAME:Vesterheim Norwegian-American
X-ORIGINAL-URL:https://vesterheim.org
X-WR-CALDESC:Events for Vesterheim Norwegian-American
BEGIN:VTIMEZONE
TZID:UTC
BEGIN:STANDARD
TZOFFSETFROM:+0000
TZOFFSETTO:+0000
TZNAME:UTC
DTSTART:20170101T000000
END:STANDARD
END:VTIMEZONE
BEGIN:VEVENT
DTSTART;TZID=America/Chicago:20210802T050917
DTEND;TZID=America/Chicago:20210802T050917
DTSTAMP:20210802T050917
CREATED:20210427T001628Z
LAST-MODIFIED:20210427T001628Z
UID:3863-0-0@vesterheim.org
SUMMARY:The King's Sweater
DESCRIPTION:
URL:https://vesterheim.org/program/the-kings-sweater/
END:VEVENT
BEGIN:VEVENT
DTSTART;TZID=America/Chicago:20210802T050917
DTEND;TZID=America/Chicago:20210802T050917
DTSTAMP:20210802T050917
CREATED:20210427T001628Z
LAST-MODIFIED:20210427T001628Z
UID:3864-0-0@vesterheim.org
SUMMARY:Chip Carving Essentials
DESCRIPTION:
URL:https://vesterheim.org/program/chip-carving-essentials/
END:VEVENT
BEGIN:VEVENT
DTSTART;TZID=America/Chicago:20210802T050917
DTEND;TZID=America/Chicago:20210802T050917
DTSTAMP:20210802T050917
CREATED:20210427T001629Z
LAST-MODIFIED:20210427T001629Z
UID:3865-0-0@vesterheim.org
SUMMARY:Harvesting Dyes for Winter
DESCRIPTION:
URL:https://vesterheim.org/program/harvesting-dyes-for-winter/
END:VEVENT
BEGIN:VEVENT
DTSTART;TZID=America/Chicago:20210802T050917
DTEND;TZID=America/Chicago:20210802T050917
DTSTAMP:20210802T050917
CREATED:20210427T001629Z
LAST-MODIFIED:20210427T001629Z
UID:3866-0-0@vesterheim.org
SUMMARY:Pick-Up Bandweaving with a Bandgrind
DESCRIPTION:
URL:https://vesterheim.org/program/pick-up-bandweaving-with-a-bandgrind-3/
END:VEVENT
BEGIN:VEVENT
DTSTART;TZID=America/Chicago:20210802T050917
DTEND;TZID=America/Chicago:20210802T050917
DTSTAMP:20210802T050917
CREATED:20210427T001629Z
LAST-MODIFIED:20210427T001629Z
UID:3867-0-0@vesterheim.org
SUMMARY:Aquavit Brunch Cocktails
DESCRIPTION:
URL:https://vesterheim.org/program/aquavit-brunch-cocktails/
END:VEVENT
BEGIN:VEVENT
DTSTART;TZID=America/Chicago:20210802T050917
DTEND;TZID=America/Chicago:20210802T050917
DTSTAMP:20210802T050917
CREATED:20210427T001630Z
LAST-MODIFIED:20210427T001630Z
UID:3868-0-0@vesterheim.org
SUMMARY:Introduction to the Basic Strokes of Rosemaling: Telemark Style
DESCRIPTION:
URL:https://vesterheim.org/program/introduction-to-the-basic-strokes-of-rosemaling-telemark-style/
END:VEVENT
BEGIN:VEVENT
DTSTART;TZID=America/Chicago:20210802T050917
DTEND;TZID=America/Chicago:20210802T050917
DTSTAMP:20210802T050917
CREATED:20210427T001630Z
LAST-MODIFIED:20210427T001630Z
UID:3869-0-0@vesterheim.org
SUMMARY:Introduction to Rosemaling: Viksdal Style
DESCRIPTION:
URL:https://vesterheim.org/program/introduction-to-rosemaling-viksdal-style/
END:VEVENT
BEGIN:VEVENT
DTSTART;TZID=America/Chicago:20210802T050917
DTEND;TZID=America/Chicago:20210802T050917
DTSTAMP:20210802T050917
CREATED:20210427T001630Z
LAST-MODIFIED:20210427T001630Z
UID:3870-0-0@vesterheim.org
SUMMARY:New Nordic Summer Apps
DESCRIPTION:
URL:https://vesterheim.org/program/new-nordic-summer-apps/
END:VEVENT
BEGIN:VEVENT
DTSTART;TZID=America/Chicago:20210802T050917
DTEND;TZID=America/Chicago:20210802T050917
DTSTAMP:20210802T050917
CREATED:20210427T001630Z
LAST-MODIFIED:20210427T001630Z
UID:3871-0-0@vesterheim.org
SUMMARY:FamilieTid: Concert with Fiddler Casey Driessen!
DESCRIPTION:
URL:https://vesterheim.org/program/familietid-concert-with-fiddler-casey-driessen/
END:VEVENT
BEGIN:VEVENT
DTSTART;TZID=America/Chicago:20210802T050917
DTEND;TZID=America/Chicago:20210802T050917
DTSTAMP:20210802T050917
CREATED:20210427T001631Z
LAST-MODIFIED:20210427T001631Z
UID:3873-0-0@vesterheim.org
SUMMARY:Norwegian Language (Level 3)
DESCRIPTION:
URL:https://vesterheim.org/program/norwegian-language-level-3/
END:VEVENT
BEGIN:VEVENT
DTSTART;TZID=America/Chicago:20210802T050917
DTEND;TZID=America/Chicago:20210802T050917
DTSTAMP:20210802T050917
CREATED:20210427T001632Z
LAST-MODIFIED:20210427T001632Z
UID:3874-0-0@vesterheim.org
SUMMARY:Norwegian Language Starter Session (Level 1)
DESCRIPTION:
URL:https://vesterheim.org/program/norwegian-language-starter-session-level-1/
END:VEVENT
BEGIN:VEVENT
DTSTART;TZID=America/Chicago:20210802T050917
DTEND;TZID=America/Chicago:20210802T050917
DTSTAMP:20210802T050917
CREATED:20210427T001633Z
LAST-MODIFIED:20210427T001633Z
UID:3875-0-0@vesterheim.org
SUMMARY:FamilieTid: Family Cook-Along with Nevada Berg!
DESCRIPTION:
URL:https://vesterheim.org/program/familietid-family-cook-along-with-nevada-berg/
END:VEVENT
BEGIN:VEVENT
DTSTART;TZID=America/Chicago:20210802T050917
DTEND;TZID=America/Chicago:20210802T050917
DTSTAMP:20210802T050917
CREATED:20210427T001633Z
LAST-MODIFIED:20210427T001633Z
UID:3876-0-0@vesterheim.org
SUMMARY:Homemade Rye and Oat Crispbread (KnŠckebršd)
DESCRIPTION:
URL:https://vesterheim.org/program/homemade-rye-and-oat-crispbread-knsckebrsd/
END:VEVENT
BEGIN:VEVENT
DTSTART;TZID=America/Chicago:20210802T050917
DTEND;TZID=America/Chicago:20210802T050917
DTSTAMP:20210802T050917
CREATED:20210427T001633Z
LAST-MODIFIED:20210427T001633Z
UID:3877-0-0@vesterheim.org
SUMMARY:Unraveling the Knot Basket: Investigating the Scandinavian Knutkorg
DESCRIPTION:
URL:https://vesterheim.org/program/unraveling-the-knot-basket-investigating-the-scandinavian-knutkorg/
END:VEVENT
BEGIN:VEVENT
DTSTART;TZID=America/Chicago:20210802T050917
DTEND;TZID=America/Chicago:20210802T050917
DTSTAMP:20210802T050917
CREATED:20210427T001633Z
LAST-MODIFIED:20210427T001633Z
UID:3878-0-0@vesterheim.org
SUMMARY:Introduction to Tapestry Weaving
DESCRIPTION:
URL:https://vesterheim.org/program/introduction-to-tapestry-weaving-7/
END:VEVENT
BEGIN:VEVENT
DTSTART;TZID=America/Chicago:20210802T050917
DTEND;TZID=America/Chicago:20210802T050917
DTSTAMP:20210802T050917
CREATED:20210427T001634Z
LAST-MODIFIED:20210427T001634Z
UID:3880-0-0@vesterheim.org
SUMMARY:Carving the Hulderfolk: Scandinavian Style Figure Carving
DESCRIPTION:
URL:https://vesterheim.org/program/carving-the-hulderfolk-scandinavian-style-figure-carving/
END:VEVENT
BEGIN:VEVENT
DTSTART;TZID=America/Chicago:20210802T050917
DTEND;TZID=America/Chicago:20210802T050917
DTSTAMP:20210802T050917
CREATED:20210427T001634Z
LAST-MODIFIED:20210427T001634Z
UID:3881-0-0@vesterheim.org
SUMMARY:Intermediate Needle-Felting: Fjord Horse
DESCRIPTION:
URL:https://vesterheim.org/program/intermediate-needle-felting-fjord-horse/
END:VEVENT
BEGIN:VEVENT
DTSTART;TZID=America/Chicago:20210802T050917
DTEND;TZID=America/Chicago:20210802T050917
DTSTAMP:20210802T050917
CREATED:20210427T001634Z
LAST-MODIFIED:20210427T001634Z
UID:3882-0-0@vesterheim.org
SUMMARY:Knitting Selbu Mittens
DESCRIPTION:
URL:https://vesterheim.org/program/knitting-selbu-mittens/
END:VEVENT
BEGIN:VEVENT
DTSTART;TZID=America/Chicago:20210802T050917
DTEND;TZID=America/Chicago:20210802T050917
DTSTAMP:20210802T050917
CREATED:20210427T001635Z
LAST-MODIFIED:20210427T001635Z
UID:3883-0-0@vesterheim.org
SUMMARY:Vesterheim Bokprat (Book Club): From Day to Day\, One Man's Diary of Survival in Nazi Concentration Camps by Odd Nansen
DESCRIPTION:
URL:https://vesterheim.org/program/vesterheim-bokprat-book-club-from-day-to-day-one-mans-diary-of-survival-in-nazi-concentration-camps-by-odd-nansen/
END:VEVENT
BEGIN:VEVENT
DTSTART;TZID=America/Chicago:20210802T050917
DTEND;TZID=America/Chicago:20210802T050917
DTSTAMP:20210802T050917
CREATED:20210427T001635Z
LAST-MODIFIED:20210427T001635Z
UID:3884-0-0@vesterheim.org
SUMMARY:New Nordic Harvest Supper
DESCRIPTION:
URL:https://vesterheim.org/program/new-nordic-harvest-supper/
END:VEVENT
BEGIN:VEVENT
DTSTART;TZID=America/Chicago:20210802T050917
DTEND;TZID=America/Chicago:20210802T050917
DTSTAMP:20210802T050917
CREATED:20210427T001635Z
LAST-MODIFIED:20210427T001635Z
UID:3885-0-0@vesterheim.org
SUMMARY:FamilieTid: Paper Cutting with Torben Jarstr¿m Clausen!
DESCRIPTION:
URL:https://vesterheim.org/program/familietid-paper-cutting-with-torben-jarstrm-clausen/
END:VEVENT
BEGIN:VEVENT
DTSTART;TZID=America/Chicago:20210802T050917
DTEND;TZID=America/Chicago:20210802T050917
DTSTAMP:20210802T050917
CREATED:20210427T001635Z
LAST-MODIFIED:20210427T001635Z
UID:3886-0-0@vesterheim.org
SUMMARY:Continuing the Basic Strokes of Rosemaling: Telemark Style
DESCRIPTION:
URL:https://vesterheim.org/program/continuing-the-basic-strokes-of-rosemaling-telemark-style/
END:VEVENT
BEGIN:VEVENT
DTSTART;TZID=America/Chicago:20210802T050917
DTEND;TZID=America/Chicago:20210802T050917
DTSTAMP:20210802T050917
CREATED:20210427T001635Z
LAST-MODIFIED:20210427T001635Z
UID:3887-0-0@vesterheim.org
SUMMARY:Card Weaving
DESCRIPTION:
URL:https://vesterheim.org/program/card-weaving/
END:VEVENT
BEGIN:VEVENT
DTSTART;TZID=America/Chicago:20210802T050917
DTEND;TZID=America/Chicago:20210802T050917
DTSTAMP:20210802T050917
CREATED:20210427T001635Z
LAST-MODIFIED:20210427T001635Z
UID:3888-0-0@vesterheim.org
SUMMARY:Color Mixing for Rosemalers
DESCRIPTION:
URL:https://vesterheim.org/program/color-mixing-for-rosemalers-2/
END:VEVENT
BEGIN:VEVENT
DTSTART;TZID=America/Chicago:20210802T050917
DTEND;TZID=America/Chicago:20210802T050917
DTSTAMP:20210802T050917
CREATED:20210427T001636Z
LAST-MODIFIED:20210427T001636Z
UID:3889-0-0@vesterheim.org
SUMMARY:All About Coffee
DESCRIPTION:
URL:https://vesterheim.org/program/all-about-coffee/
END:VEVENT
BEGIN:VEVENT
DTSTART;TZID=America/Chicago:20210802T050917
DTEND;TZID=America/Chicago:20210802T050917
DTSTAMP:20210802T050917
CREATED:20210427T001636Z
LAST-MODIFIED:20210427T001636Z
UID:3890-0-0@vesterheim.org
SUMMARY:S‡mi-Inspired Bracelets
DESCRIPTION:
URL:https://vesterheim.org/program/s%e2%80%a1mi-inspired-bracelets/
END:VEVENT
BEGIN:VEVENT
DTSTART;TZID=America/Chicago:20210802T050917
DTEND;TZID=America/Chicago:20210802T050917
DTSTAMP:20210802T050917
CREATED:20210427T001636Z
LAST-MODIFIED:20210427T001636Z
UID:3891-0-0@vesterheim.org
SUMMARY:Rosemaling: A Style a Day
DESCRIPTION:
URL:https://vesterheim.org/program/rosemaling-a-style-a-day/
END:VEVENT
BEGIN:VEVENT
DTSTART;TZID=UTC:20170919T100000
DTEND;TZID=UTC:20170919T110000
DTSTAMP:20210802T050917
CREATED:20171206T043549Z
LAST-MODIFIED:20200624T155252Z
UID:361-1505815200-1505818800@vesterheim.org
SUMMARY:Barnetimen (Children's Hour)
DESCRIPTION:[vc_custom_heading text=”Barnetimen\n(Children’s Hour)” font_container=”tag:h1|text_align:left” use_theme_fonts=”yes” el_class=”huge-heading green”]Vesterheim invites all pre-school-aged children and their parents or caregivers to Barnetimen! During this children’s hour we will explore objects and exhibits in the museum\, and then make art inspired by the museum visit. A snack is also provided. \nBarnetimen meets from 10:00-11:00 a.m. at Vesterheim Museum the third Tuesday of each month\, September-April. The program is geared toward 3-5 year olds\, but all ages are welcome. No sign-up is necessary—come to one session or all of them. \nThe program is free and participants will receive a free admission pass to the museum to visit again with their families. \nBarnetimen is sponsored by Keith and Amy Bruening\, David and Brenda Carlson\, and Norwegian Mutual Insurance Association. \nFor information about Barnetimen\, please contact Jennifer Kovarik\, Vesterheim Youth Educator\, at 563-382-9681 or jkovarik@vesterheim.org. \nMore Details[vc_custom_heading text=”2018-2019 dates are:” font_container=”tag:h3|text_align:left” use_theme_fonts=”yes” el_class=”medium-heading teal”]September 17\, 2019 – Boats\nOctober 15\, 2019 – Favorite Things\nNovember 19\, 2019 – Tattoos\nDecember 17\, 2019 – Celebrations\nJanuary 21\, 2020 – Food\nFebruary 18\, 2020- Hearts\nMarch 17\, 2020- Crowns\nApril 21\, 2020- Nisse
URL:https://vesterheim.org/program/barnetimen-childrens-hour-symbols-and-shapes/2017-09-19/
CATEGORIES:Youth Programs
ATTACH;FMTTYPE=image/jpeg:https://vesterheim.org/wp-content/uploads/2017/07/barnetimen-people-kids-746by420-a3da9a.jpg
END:VEVENT
BEGIN:VEVENT
DTSTART;TZID=UTC:20170923T120000
DTEND;TZID=UTC:20171001T210000
DTSTAMP:20210802T050917
CREATED:20170922T011343Z
LAST-MODIFIED:20200624T155251Z
UID:260-1506168000-1506891600@vesterheim.org
SUMMARY:Benefit Auction
DESCRIPTION:[vc_custom_heading text=”Vesterheim’s Benefit Auction” font_container=”tag:h1|text_align:left” use_theme_fonts=”yes” el_class=”large-heading bold”]Vesterheim’s 2017 Folk Art Benefit Auction raised $16\,075. Fantastic! Thank you to all the wonderful artists who donated pieces\, to Viking Cruises\, and to everyone who bid. \nThis annual auction is your chance to own one-of-a-kind pieces of rosemaling\, woodworking\, fiber arts\, and more by the best artists working in the Norwegian tradition. Watch for information in 2018 about Vesterheim’s next Folk Art Benefit Auction. \n[vc_custom_heading text=”Proceeds benefit Vesterheim’s Folk Art School” font_container=”tag:h2|text_align:center” use_theme_fonts=”yes” el_class=”green huge-heading”]Proceeds from the auction will benefit Vesterheim’s Folk Art School\, which has provided classes since 1967 in fiber arts\, woodworking\, painting\, cooking\, jewelry\, blacksmithing\, knifemaking\, and more. At the Folk Art School\, students and instructors create a community of learning and experience the joy of making something by hand. \nThe folk-art experience at Vesterheim doesn’t end with classes. Artists develop their skills to enter pieces in an annual judged competition\, “The National Exhibition of Folk Art in the Norwegian Tradition.” Pieces in the exhibition are awarded Blue\, Red\, and White Ribbons representing points that accumulate over successive years toward a Gold Medal. \nMany of the pieces in Benefit Auction are donated by Vesterheim Gold Medalists and exhibition ribbon winners. There are beautiful examples of rosemaling (Norwegian decorative painting) in a variety of styles\, a woven rug\, tapestries\, woodcarvings\, and more. \nVesterheim is very grateful to everyone who donated to this auction and thanks to Bill Wild of Decorah\, who volunteered his services as photographer of all of the artwork for the auction. \nCheck Results Here\n“This is one of our biggest fundraising events and we are excited to share it. Please help support Vesterheim Museum and help keep these wonderful Norwegian folk-art traditions alive.” McKelvey said.
URL:https://vesterheim.org/program/benefit-auction/
CATEGORIES:Annual Events
END:VEVENT
BEGIN:VEVENT
DTSTART;TZID=UTC:20171017T100000
DTEND;TZID=UTC:20171017T110000
DTSTAMP:20210802T050917
CREATED:20171206T043549Z
LAST-MODIFIED:20200624T155252Z
UID:368-1508234400-1508238000@vesterheim.org
SUMMARY:Barnetimen (Children's Hour)
DESCRIPTION:[vc_custom_heading text=”Barnetimen\n(Children’s Hour)” font_container=”tag:h1|text_align:left” use_theme_fonts=”yes” el_class=”huge-heading green”]Vesterheim invites all pre-school-aged children and their parents or caregivers to Barnetimen! During this children’s hour we will explore objects and exhibits in the museum\, and then make art inspired by the museum visit. A snack is also provided. \nBarnetimen meets from 10:00-11:00 a.m. at Vesterheim Museum the third Tuesday of each month\, September-April. The program is geared toward 3-5 year olds\, but all ages are welcome. No sign-up is necessary—come to one session or all of them. \nThe program is free and participants will receive a free admission pass to the museum to visit again with their families. \nBarnetimen is sponsored by Keith and Amy Bruening\, David and Brenda Carlson\, and Norwegian Mutual Insurance Association. \nFor information about Barnetimen\, please contact Jennifer Kovarik\, Vesterheim Youth Educator\, at 563-382-9681 or jkovarik@vesterheim.org. \nMore Details[vc_custom_heading text=”2018-2019 dates are:” font_container=”tag:h3|text_align:left” use_theme_fonts=”yes” el_class=”medium-heading teal”]September 18\, 2018 – Color\nOctober 16\, 2018 – Food\nNovember 20\, 2018 – Photography\nDecember 18\, 2018 – Symbols\nJanuary 15\, 2019 – Snow\nFebruary 19\, 2019- Go Crazy for Color\nMarch 19\, 2019- Trolls!\nApril 16\, 2019- Flower Power
URL:https://vesterheim.org/program/barnetimen-childrens-hour-symbols-and-shapes-2017-10-17/2017-10-17/
CATEGORIES:Youth Programs
ATTACH;FMTTYPE=image/jpeg:https://vesterheim.org/wp-content/uploads/2017/07/barnetimen-people-kids-746by420-a3da9a.jpg
END:VEVENT
END:VCALENDAR